BEGIN:VCALENDAR
VERSION:2.0
CALSCALE:GREGORIAN
BEGIN:VEVENT
DTSTAMP:20260419T122601
DTSTART:20260502T120000
DTEND:20260502T150000
SUMMARY:Little Havana Food  Culture Tour: A Four-course Culinary Journey
DESCRIPTION:Event Info: https://www.localwineevents.com/view/event/little-havana-food-culture-tour-a-four-course-culinary-journey/1001386
LOCATION:1642 SW 8th St -- 1642 Southwest 8th Street Miami, FL 33135
STATUS:CONFIRMED
SEQUENCE:0
TRANSP:OPAQUE
END:VEVENT
END:VCALENDAR
