BEGIN:VCALENDAR
VERSION:2.0
CALSCALE:GREGORIAN
BEGIN:VEVENT
DTSTAMP:20260423T030644
DTSTART:20260502T130000
DTEND:20260502T140000
SUMMARY:Carib Brewery Tour With Craft Beer Tastings And Brewery Walkthrough
DESCRIPTION:Event Info: https://www.localwineevents.com/view/event/carib-brewery-tour-with-craft-beer-tastings-and-brewery-walkthrough/1001376
LOCATION:Carib Brewery USA -- 200 Imperial Boulevard Cape Canaveral, FL 32920
STATUS:CONFIRMED
SEQUENCE:0
TRANSP:OPAQUE
END:VEVENT
END:VCALENDAR
