BEGIN:VCALENDAR
VERSION:2.0
CALSCALE:GREGORIAN
BEGIN:VEVENT
DTSTAMP:20260420T175700
DTSTART:20260502T110000
DTEND:20260502T141500
SUMMARY:Culinary Storytellers Panel
DESCRIPTION:Event Info: https://www.localwineevents.com/view/event/culinary-storytellers-panel/1001370
LOCATION:123 E Canon Perdido St -- 123 East Canon Perdido Street Santa Barbara, CA 93101
STATUS:CONFIRMED
SEQUENCE:0
TRANSP:OPAQUE
END:VEVENT
END:VCALENDAR
