BEGIN:VCALENDAR
VERSION:2.0
CALSCALE:GREGORIAN
BEGIN:VEVENT
DTSTAMP:20260420T175735
DTSTART:20260502T150000
DTEND:20260502T163000
SUMMARY:Wine  Wander At Solar Punk Farms
DESCRIPTION:Event Info: https://www.localwineevents.com/view/event/wine-wander-at-solar-punk-farms/1001366
LOCATION:Solar Punk Farms -- 15015 Armstrong Woods Road Guerneville, CA 95446
STATUS:CONFIRMED
SEQUENCE:0
TRANSP:OPAQUE
END:VEVENT
END:VCALENDAR
