BEGIN:VCALENDAR
VERSION:2.0
CALSCALE:GREGORIAN
BEGIN:VEVENT
DTSTAMP:20260422T073916
DTSTART:20260502T173000
DTEND:20260502T213000
SUMMARY:Dressed To The Nines: A Masquerade Experience
DESCRIPTION:Event Info: https://www.localwineevents.com/view/event/dressed-to-the-nines-a-masquerade-experience/1001353
LOCATION:Shadybrook Estate Winery -- 100 Rapp Lane Napa, CA 94558
STATUS:CONFIRMED
SEQUENCE:0
TRANSP:OPAQUE
END:VEVENT
END:VCALENDAR
