BEGIN:VCALENDAR
VERSION:2.0
CALSCALE:GREGORIAN
BEGIN:VEVENT
DTSTAMP:20260420T175609
DTSTART:20260502T180000
DTEND:20260502T220000
SUMMARY:Garrett Schlichte  Mamrie Hart Presents:  DIRTY DISHES
DESCRIPTION:Event Info: https://www.localwineevents.com/view/event/garrett-schlichte-mamrie-hart-presents-dirty-dishes/1001345
LOCATION:Solar Punk Farms -- 15015 Armstrong Woods Road Guerneville, CA 95446
STATUS:CONFIRMED
SEQUENCE:0
TRANSP:OPAQUE
END:VEVENT
END:VCALENDAR
