BEGIN:VCALENDAR
VERSION:2.0
CALSCALE:GREGORIAN
BEGIN:VEVENT
DTSTAMP:20260422T192713
DTSTART:20260502T170000
DTEND:20260502T210000
SUMMARY:2026 Spring Farm Dinner
DESCRIPTION:Event Info: https://www.localwineevents.com/view/event/2026-spring-farm-dinner/1001337
LOCATION:5 Porch Farm -- 5035 Smith Farm Lane Spring Hill, TN 37174
STATUS:CONFIRMED
SEQUENCE:0
TRANSP:OPAQUE
END:VEVENT
END:VCALENDAR
