BEGIN:VCALENDAR
VERSION:2.0
CALSCALE:GREGORIAN
BEGIN:VEVENT
DTSTAMP:20260421T164033
DTSTART:20260502T140000
DTEND:20260502T160000
SUMMARY:Landon Winery\'s Barrel Tasting And Tour
DESCRIPTION:Event Info: https://www.localwineevents.com/view/event/landon-winerys-barrel-tasting-and-tour/1001327
LOCATION:Landon Winery -- 2508 Lee Street Greenville, TX 75401
STATUS:CONFIRMED
SEQUENCE:0
TRANSP:OPAQUE
END:VEVENT
END:VCALENDAR
