BEGIN:VCALENDAR
VERSION:2.0
CALSCALE:GREGORIAN
BEGIN:VEVENT
DTSTAMP:20260420T143744
DTSTART:20260502T140000
DTEND:20260502T170000
SUMMARY:Barrels, Brews  Bites
DESCRIPTION:Event Info: https://www.localwineevents.com/view/event/barrels-brews-bites/1001322
LOCATION:Mount Brow Vineyard -- 10850 Mount Brow Road Sonora, CA 95370
STATUS:CONFIRMED
SEQUENCE:0
TRANSP:OPAQUE
END:VEVENT
END:VCALENDAR
