BEGIN:VCALENDAR
VERSION:2.0
CALSCALE:GREGORIAN
BEGIN:VEVENT
DTSTAMP:20260421T205350
DTSTART:20260502T110000
DTEND:20260502T180000
SUMMARY:2026 Twice As Fine Texarkana Wine Festival
DESCRIPTION:Event Info: https://www.localwineevents.com/view/event/2026-twice-as-fine-texarkana-wine-festival/1001315
LOCATION:Spring Lake Park, North Park Road, Texarkana, Texas, USA -- 4303 North Park Road Texarkana, TX 75501
STATUS:CONFIRMED
SEQUENCE:0
TRANSP:OPAQUE
END:VEVENT
END:VCALENDAR
