BEGIN:VCALENDAR
VERSION:2.0
CALSCALE:GREGORIAN
BEGIN:VEVENT
DTSTAMP:20260420T074529
DTSTART:20260502T170000
DTEND:20260502T200000
SUMMARY:Derby  Decanters Charcuterie Board Pre-Order | Sat. May 2nd 5pm To 8pm
DESCRIPTION:Event Info: https://www.localwineevents.com/view/event/derby-decanters-charcuterie-board-pre-order-sat-may-2nd-5pm-to-8pm/1001314
LOCATION:Tippy Creek Winery -- 5920 N 200 E Leesburg, IN 46538
STATUS:CONFIRMED
SEQUENCE:0
TRANSP:OPAQUE
END:VEVENT
END:VCALENDAR
