BEGIN:VCALENDAR
VERSION:2.0
CALSCALE:GREGORIAN
BEGIN:VEVENT
DTSTAMP:20260421T161802
DTSTART:20260502T170000
DTEND:20260502T190000
SUMMARY:Babushka\'s Board Fundraising Dinner  Menu Tasting Experience
DESCRIPTION:Event Info: https://www.localwineevents.com/view/event/babushkas-board-fundraising-dinner-menu-tasting-experience/1001302
LOCATION:1112 Taylor St -- 1112 Taylor Street Oregon City, OR 97045
STATUS:CONFIRMED
SEQUENCE:0
TRANSP:OPAQUE
END:VEVENT
END:VCALENDAR
