BEGIN:VCALENDAR
VERSION:2.0
CALSCALE:GREGORIAN
BEGIN:VEVENT
DTSTAMP:20260421T045059
DTSTART:20260502T173000
DTEND:20260502T220000
SUMMARY:Kentucky Derby Watch Party And Dinner With Serre Vineyards
DESCRIPTION:Event Info: https://www.localwineevents.com/view/event/kentucky-derby-watch-party-and-dinner-with-serre-vineyards/1001296
LOCATION:Serre Vineyards -- 364 Beast Trail Mount Airy, NC 27030
STATUS:CONFIRMED
SEQUENCE:0
TRANSP:OPAQUE
END:VEVENT
END:VCALENDAR
