BEGIN:VCALENDAR
VERSION:2.0
CALSCALE:GREGORIAN
BEGIN:VEVENT
DTSTAMP:20260421T164727
DTSTART:20260502T120000
DTEND:20260502T170000
SUMMARY:Wine Tasting And Live Acoustic Music By Juan Del Valle | Anna, TX
DESCRIPTION:Event Info: https://www.localwineevents.com/view/event/wine-tasting-and-live-acoustic-music-by-juan-del-valle-anna-tx/1001295
LOCATION:BarnHill Vineyards -- 11917 County Road 509 Anna, TX 75409
STATUS:CONFIRMED
SEQUENCE:0
TRANSP:OPAQUE
END:VEVENT
END:VCALENDAR
