BEGIN:VCALENDAR
VERSION:2.0
CALSCALE:GREGORIAN
BEGIN:VEVENT
DTSTAMP:20260422T163926
DTSTART:20260502T183000
DTEND:20260502T213000
SUMMARY:Farm To Table Dinner: International Street Food Edition
DESCRIPTION:Event Info: https://www.localwineevents.com/view/event/farm-to-table-dinner-international-street-food-edition/1001293
LOCATION:15th Street Farm -- 342 15th St N St. Petersburg, FL 33705
STATUS:CONFIRMED
SEQUENCE:0
TRANSP:OPAQUE
END:VEVENT
END:VCALENDAR
