BEGIN:VCALENDAR
VERSION:2.0
CALSCALE:GREGORIAN
BEGIN:VEVENT
DTSTAMP:20260419T111310
DTSTART:20260502T130000
DTEND:20260502T210000
SUMMARY:Uncorked: Detroit
DESCRIPTION:Event Info: https://www.localwineevents.com/view/event/uncorked-detroit/1001287
LOCATION:Detroit Historical Museum -- 5401 Woodward Avenue Detroit, MI 48202
STATUS:CONFIRMED
SEQUENCE:0
TRANSP:OPAQUE
END:VEVENT
END:VCALENDAR
