BEGIN:VCALENDAR
VERSION:2.0
CALSCALE:GREGORIAN
BEGIN:VEVENT
DTSTAMP:20260422T163834
DTSTART:20260502T170000
DTEND:20260502T210000
SUMMARY:Notes Of Ember  Vine: A Sensory Experience In Cigars  Wine
DESCRIPTION:Event Info: https://www.localwineevents.com/view/event/notes-of-ember-vine-a-sensory-experience-in-cigars-wine/1001282
LOCATION:Vino Ghvino 21 -- 1717 South 50th Street Tampa, FL 33619
STATUS:CONFIRMED
SEQUENCE:0
TRANSP:OPAQUE
END:VEVENT
END:VCALENDAR
