BEGIN:VCALENDAR
VERSION:2.0
CALSCALE:GREGORIAN
BEGIN:VEVENT
DTSTAMP:20260422T145759
DTSTART:20260502T130000
DTEND:20260502T150000
SUMMARY:Saturday Open House Wine Tastings
DESCRIPTION:Event Info: https://www.localwineevents.com/view/event/saturday-open-house-wine-tastings/1001270
LOCATION:Michael\'s Wine Cellar -- 1283 S Tamiami Trail Sarasota, FL 34239
STATUS:CONFIRMED
SEQUENCE:0
TRANSP:OPAQUE
END:VEVENT
END:VCALENDAR
