BEGIN:VCALENDAR
VERSION:2.0
CALSCALE:GREGORIAN
BEGIN:VEVENT
DTSTAMP:20260421T163924
DTSTART:20260502T153000
DTEND:20260502T163000
SUMMARY:Uncorked: Cold And Bold Wine Tasting
DESCRIPTION:Event Info: https://www.localwineevents.com/view/event/uncorked-cold-and-bold-wine-tasting/1001269
LOCATION:Eataly Dallas, La Scuola -- 8687 North Central Expressway Dallas, TX 75225
STATUS:CONFIRMED
SEQUENCE:0
TRANSP:OPAQUE
END:VEVENT
END:VCALENDAR
