BEGIN:VCALENDAR
VERSION:2.0
CALSCALE:GREGORIAN
BEGIN:VEVENT
DTSTAMP:20260420T175659
DTSTART:20260502T180000
DTEND:20260502T213000
SUMMARY:Wine  The Spirit 2026
DESCRIPTION:Event Info: https://www.localwineevents.com/view/event/wine-the-spirit-2026/1001266
LOCATION:Chacewater Winery  Olive Mill -- 5625 Gaddy Lane Kelseyville, CA 95451
STATUS:CONFIRMED
SEQUENCE:0
TRANSP:OPAQUE
END:VEVENT
END:VCALENDAR
