BEGIN:VCALENDAR
VERSION:2.0
CALSCALE:GREGORIAN
BEGIN:VEVENT
DTSTAMP:20260421T163926
DTSTART:20260501T183000
DTEND:20260501T203000
SUMMARY:In-person Class: Fresh Handmade Pasta (Dallas)
DESCRIPTION:Event Info: https://www.localwineevents.com/view/event/in-person-class-fresh-handmade-pasta-dallas/1001245
LOCATION:Peticolas Brewing Company Taproom -- 1301 Pace Street Dallas, TX 75207
STATUS:CONFIRMED
SEQUENCE:0
TRANSP:OPAQUE
END:VEVENT
END:VCALENDAR
