BEGIN:VCALENDAR
VERSION:2.0
CALSCALE:GREGORIAN
BEGIN:VEVENT
DTSTAMP:20260419T122601
DTSTART:20260501T170000
DTEND:20260501T173000
SUMMARY:Casa La Rubia Brewery Tours 2025
DESCRIPTION:Event Info: https://www.localwineevents.com/view/event/casa-la-rubia-brewery-tours-2025/1001234
LOCATION:55 NW 25th St -- 55 Northwest 25th Street Miami, FL 33127
STATUS:CONFIRMED
SEQUENCE:0
TRANSP:OPAQUE
END:VEVENT
END:VCALENDAR
