BEGIN:VCALENDAR
VERSION:2.0
CALSCALE:GREGORIAN
BEGIN:VEVENT
DTSTAMP:20260419T112040
DTSTART:20260501T160000
DTEND:20260501T200000
SUMMARY:Wild Bill\'s And Drew Estate Cigars - Agave Affair
DESCRIPTION:Event Info: https://www.localwineevents.com/view/event/wild-bills-and-drew-estate-cigars---agave-affair/1001233
LOCATION:Wild Bill\'s Tobacco -- 30989 Five Mile Road Livonia, MI 48154
STATUS:CONFIRMED
SEQUENCE:0
TRANSP:OPAQUE
END:VEVENT
END:VCALENDAR
