BEGIN:VCALENDAR
VERSION:2.0
CALSCALE:GREGORIAN
BEGIN:VEVENT
DTSTAMP:20260421T163951
DTSTART:20260501T103000
DTEND:20260501T120000
SUMMARY:Store Tour: Taste Of Eataly
DESCRIPTION:Event Info: https://www.localwineevents.com/view/event/store-tour-taste-of-eataly/1001222
LOCATION:Eataly Dallas -- 8687 North Central Expressway Dallas, TX 75225
STATUS:CONFIRMED
SEQUENCE:0
TRANSP:OPAQUE
END:VEVENT
END:VCALENDAR
