BEGIN:VCALENDAR
VERSION:2.0
CALSCALE:GREGORIAN
BEGIN:VEVENT
DTSTAMP:20260419T122602
DTSTART:20260501T173000
DTEND:20260501T180000
SUMMARY:Spirits  Spice Boca Whiskey Experience
DESCRIPTION:Event Info: https://www.localwineevents.com/view/event/spirits-spice-boca-whiskey-experience/1001207
LOCATION:Spirits  Spice Boca Raton -- 314 Plaza Real Boca Raton, FL 33432
STATUS:CONFIRMED
SEQUENCE:0
TRANSP:OPAQUE
END:VEVENT
END:VCALENDAR
