BEGIN:VCALENDAR
VERSION:2.0
CALSCALE:GREGORIAN
BEGIN:VEVENT
DTSTAMP:20260421T164032
DTSTART:20260501T170000
DTEND:20260501T180000
SUMMARY:Barrel Tasting Tour
DESCRIPTION:Event Info: https://www.localwineevents.com/view/event/barrel-tasting-tour/1001199
LOCATION:1845 Distilling -- 2070 South Bridgefarmer Road Lowry Crossing, TX 75069
STATUS:CONFIRMED
SEQUENCE:0
TRANSP:OPAQUE
END:VEVENT
END:VCALENDAR
