BEGIN:VCALENDAR
VERSION:2.0
CALSCALE:GREGORIAN
BEGIN:VEVENT
DTSTAMP:20260421T163950
DTSTART:20260501T183000
DTEND:20260501T210000
SUMMARY:Steak  Lobster Dinner
DESCRIPTION:Event Info: https://www.localwineevents.com/view/event/steak-lobster-dinner/1001173
LOCATION:Central Market Dallas Lovers Lane -- 5750 East Lovers Lane Dallas, TX 75206
STATUS:CONFIRMED
SEQUENCE:0
TRANSP:OPAQUE
END:VEVENT
END:VCALENDAR
