BEGIN:VCALENDAR
VERSION:2.0
CALSCALE:GREGORIAN
BEGIN:VEVENT
DTSTAMP:20260422T145847
DTSTART:20260501T180000
DTEND:20260501T210000
SUMMARY:Tree Fort Toasts-A Curated Wine And Film Paring For Great Fun!
DESCRIPTION:Event Info: https://www.localwineevents.com/view/event/tree-fort-toasts-a-curated-wine-and-film-paring-for-great-fun/1001170
LOCATION:Tree Fort Productions  3501 S Tamiami Tr. ENTER  MALL AT CHICOS DOOR  Suite #136 -- 3501 South Tamiami Trail Sarasota, FL 34239
STATUS:CONFIRMED
SEQUENCE:0
TRANSP:OPAQUE
END:VEVENT
END:VCALENDAR
