BEGIN:VCALENDAR
VERSION:2.0
CALSCALE:GREGORIAN
BEGIN:VEVENT
DTSTAMP:20260421T164803
DTSTART:20260501T183000
DTEND:20260501T210000
SUMMARY:Lemongrass In Louisiana: A Viet-Cajun Fusion Dinner
DESCRIPTION:Event Info: https://www.localwineevents.com/view/event/lemongrass-in-louisiana-a-viet-cajun-fusion-dinner/1001166
LOCATION:Central Market Plano -- 320 Coit Road Plano, TX 75075
STATUS:CONFIRMED
SEQUENCE:0
TRANSP:OPAQUE
END:VEVENT
END:VCALENDAR
