BEGIN:VCALENDAR
VERSION:2.0
CALSCALE:GREGORIAN
BEGIN:VEVENT
DTSTAMP:20260420T113943
DTSTART:20260426T110000
DTEND:20260426T160000
SUMMARY:Savor The Flavor
DESCRIPTION:Event Info: https://www.localwineevents.com/view/event/savor-the-flavor/1001136
LOCATION:Peirano Estate Vineyards -- 21831 N Highway 99 Acampo, CA 95220
STATUS:CONFIRMED
SEQUENCE:0
TRANSP:OPAQUE
END:VEVENT
END:VCALENDAR
