BEGIN:VCALENDAR
VERSION:2.0
CALSCALE:GREGORIAN
BEGIN:VEVENT
DTSTAMP:20260421T164032
DTSTART:20260506T170000
DTEND:20260506T200000
SUMMARY:Melka Estate Wine Wednesday Feature
DESCRIPTION:Event Info: https://www.localwineevents.com/view/event/melka-estate-wine-wednesday-feature/1001131
LOCATION:Next Bistro -- 5003 Colleyville Blvd. Colleyville, TX 76034
STATUS:CONFIRMED
SEQUENCE:0
TRANSP:OPAQUE
END:VEVENT
END:VCALENDAR
