BEGIN:VCALENDAR
VERSION:2.0
CALSCALE:GREGORIAN
BEGIN:VEVENT
DTSTAMP:20260421T164033
DTSTART:20260430T180000
DTEND:20260430T200000
SUMMARY:WhistlePig Whiskey Tasting Event
DESCRIPTION:Event Info: https://www.localwineevents.com/view/event/whistlepig-whiskey-tasting-event/1001130
LOCATION:Next Bistro -- 5003 Colleyville Blvd. Colleyville, TX 76034
STATUS:CONFIRMED
SEQUENCE:0
TRANSP:OPAQUE
END:VEVENT
END:VCALENDAR
