BEGIN:VCALENDAR
VERSION:2.0
CALSCALE:GREGORIAN
BEGIN:VEVENT
DTSTAMP:20260420T045630
DTSTART:20260516T190000
DTEND:20260516T210000
SUMMARY:Winetasting With Charlie Master
DESCRIPTION:Event Info: https://www.localwineevents.com/view/event/winetasting-with-charlie-master/1001126
LOCATION:Anderson\'s Winery and Vineyard -- 430 East US Hwy 6 Valparaiso, IN 46383
STATUS:CONFIRMED
SEQUENCE:0
TRANSP:OPAQUE
END:VEVENT
END:VCALENDAR
