BEGIN:VCALENDAR
VERSION:2.0
CALSCALE:GREGORIAN
BEGIN:VEVENT
DTSTAMP:20260420T175746
DTSTART:20260424T170000
DTEND:20260425T170000
SUMMARY:Paso Robles Wine Fanatics Meet Your Makers Party
DESCRIPTION:Event Info: https://www.localwineevents.com/view/event/paso-robles-wine-fanatics-meet-your-makers-party/1001124
LOCATION:Caliza Winery -- 1525 Peachy Canyon Road Paso Robles, California 93446
STATUS:CONFIRMED
SEQUENCE:0
TRANSP:OPAQUE
END:VEVENT
END:VCALENDAR
