BEGIN:VCALENDAR
VERSION:2.0
CALSCALE:GREGORIAN
BEGIN:VEVENT
DTSTAMP:20260420T175746
DTSTART:20260926T173000
DTEND:20260926T200000
SUMMARY:1905 Roosevelt Supper At The Ruins Of The Old Juan Flores Adobe
DESCRIPTION:Event Info: https://www.localwineevents.com/view/event/1905-roosevelt-supper-at-the-ruins-of-the-old-juan-flores-adobe/1001117
LOCATION:The Old Juan Flores Adobe Ruins at Goodchild Vineyard -- 5500 Foxen Canyon Road Santa Maria, CA 93455
STATUS:CONFIRMED
SEQUENCE:0
TRANSP:OPAQUE
END:VEVENT
END:VCALENDAR
