BEGIN:VCALENDAR
VERSION:2.0
CALSCALE:GREGORIAN
BEGIN:VEVENT
DTSTAMP:20260420T175735
DTSTART:20260725T120000
DTEND:20260725T140000
SUMMARY:Wine Pull - Our Biggest Warehouse Wine Sale
DESCRIPTION:Event Info: https://www.localwineevents.com/view/event/wine-pull---our-biggest-warehouse-wine-sale/1001116
LOCATION:The Lucas  Lewellen Cold Case Warehouse -- 95 Los Padres Way Buellton, CA 93427
STATUS:CONFIRMED
SEQUENCE:0
TRANSP:OPAQUE
END:VEVENT
END:VCALENDAR
