BEGIN:VCALENDAR
VERSION:2.0
CALSCALE:GREGORIAN
BEGIN:VEVENT
DTSTAMP:20260420T114914
DTSTART:20260510T110000
DTEND:20260510T140000
SUMMARY:Mamma Mia Mother\'s Day Brunch
DESCRIPTION:Event Info: https://www.localwineevents.com/view/event/mamma-mia-mothers-day-brunch/1001115
LOCATION:Bare Ranch by Michael David Winery -- 19877 N. Davis Rd. Lodi, CA 95242
STATUS:CONFIRMED
SEQUENCE:0
TRANSP:OPAQUE
END:VEVENT
END:VCALENDAR
