BEGIN:VCALENDAR
VERSION:2.0
CALSCALE:GREGORIAN
BEGIN:VEVENT
DTSTAMP:20260419T111358
DTSTART:20260430T180000
DTEND:20260430T193000
SUMMARY:Sip  Style: Derby Hat Workshop
DESCRIPTION:Event Info: https://www.localwineevents.com/view/event/sip-style-derby-hat-workshop/1001110
LOCATION:Burgdorf\'s Winery -- 4212 Holt Road Webberville, MI 48892
STATUS:CONFIRMED
SEQUENCE:0
TRANSP:OPAQUE
END:VEVENT
END:VCALENDAR
