BEGIN:VCALENDAR
VERSION:2.0
CALSCALE:GREGORIAN
BEGIN:VEVENT
DTSTAMP:20260419T122602
DTSTART:20260430T190000
DTEND:20260430T213000
SUMMARY:Glass Skin Facials Spring Chocolate Charcuterie Party
DESCRIPTION:Event Info: https://www.localwineevents.com/view/event/glass-skin-facials-spring-chocolate-charcuterie-party/1001106
LOCATION:Blush Luxury Venue -- 3324 Griffin Road Fort Lauderdale, FL 33312
STATUS:CONFIRMED
SEQUENCE:0
TRANSP:OPAQUE
END:VEVENT
END:VCALENDAR
