BEGIN:VCALENDAR
VERSION:2.0
CALSCALE:GREGORIAN
BEGIN:VEVENT
DTSTAMP:20260420T113852
DTSTART:20260430T183000
DTEND:20260430T200000
SUMMARY:Sourdough Basics Masterclass With Kaitlyn Iocco
DESCRIPTION:Event Info: https://www.localwineevents.com/view/event/sourdough-basics-masterclass-with-kaitlyn-iocco/1001102
LOCATION:Cornerstone Baptist Church -- 3920 Petersburg Road Burlington, KY 41005
STATUS:CONFIRMED
SEQUENCE:0
TRANSP:OPAQUE
END:VEVENT
END:VCALENDAR
