BEGIN:VCALENDAR
VERSION:2.0
CALSCALE:GREGORIAN
BEGIN:VEVENT
DTSTAMP:20260421T162010
DTSTART:20260430T150000
DTEND:20260430T160000
SUMMARY:Vietnamese Coffee Workshop: Brew, Blend  Taste
DESCRIPTION:Event Info: https://www.localwineevents.com/view/event/vietnamese-coffee-workshop-brew-blend-taste/1001096
LOCATION:GeekEasy Anime Cafe -- 310 Northwest Davis Street Portland, OR 97209
STATUS:CONFIRMED
SEQUENCE:0
TRANSP:OPAQUE
END:VEVENT
END:VCALENDAR
