BEGIN:VCALENDAR
VERSION:2.0
CALSCALE:GREGORIAN
BEGIN:VEVENT
DTSTAMP:20260421T141511
DTSTART:20260430T183000
DTEND:20260430T203000
SUMMARY:In-Person Class: Roll Your Own Sushi (Columbus)
DESCRIPTION:Event Info: https://www.localwineevents.com/view/event/in-person-class-roll-your-own-sushi-columbus/1001095
LOCATION:247 W 5th Ave -- 247 West 5th Avenue Columbus, OH 43201
STATUS:CONFIRMED
SEQUENCE:0
TRANSP:OPAQUE
END:VEVENT
END:VCALENDAR
