BEGIN:VCALENDAR
VERSION:2.0
CALSCALE:GREGORIAN
BEGIN:VEVENT
DTSTAMP:20260422T164835
DTSTART:20260430T150000
DTEND:20260430T183000
SUMMARY:Taste Of Downtown St Pete Food And History Walking Tour
DESCRIPTION:Event Info: https://www.localwineevents.com/view/event/taste-of-downtown-st-pete-food-and-history-walking-tour/1001087
LOCATION:Sundial Parking Garage -- 117 2nd Street North St. Petersburg, FL 33701
STATUS:CONFIRMED
SEQUENCE:0
TRANSP:OPAQUE
END:VEVENT
END:VCALENDAR
