BEGIN:VCALENDAR
VERSION:2.0
CALSCALE:GREGORIAN
BEGIN:VEVENT
DTSTAMP:20260423T142131
DTSTART:20260430T183000
DTEND:20260430T193000
SUMMARY:Tasting Class: Meet Mezcal, Tequila\'s Sophisticated Cousin
DESCRIPTION:Event Info: https://www.localwineevents.com/view/event/tasting-class-meet-mezcal-tequilas-sophisticated-cousin/1001086
LOCATION:Premier Group - Premium Wine  Spirits -- 7980 Transit Road Buffalo, NY 14221
STATUS:CONFIRMED
SEQUENCE:0
TRANSP:OPAQUE
END:VEVENT
END:VCALENDAR
