BEGIN:VCALENDAR
VERSION:2.0
CALSCALE:GREGORIAN
BEGIN:VEVENT
DTSTAMP:20260420T114044
DTSTART:20260430T190000
DTEND:20260430T210000
SUMMARY:Don Julio Tequila Tasting
DESCRIPTION:Event Info: https://www.localwineevents.com/view/event/don-julio-tequila-tasting/1001084
LOCATION:The Roosevelt Room - Rookwood -- 3825 Edwards Road Cincinnati, OH 45209
STATUS:CONFIRMED
SEQUENCE:0
TRANSP:OPAQUE
END:VEVENT
END:VCALENDAR
