BEGIN:VCALENDAR
VERSION:2.0
CALSCALE:GREGORIAN
BEGIN:VEVENT
DTSTAMP:20260421T141546
DTSTART:20260430T183000
DTEND:20260430T210000
SUMMARY:Columbus Bartending School: Spring Cocktails  Charcuterie
DESCRIPTION:Event Info: https://www.localwineevents.com/view/event/columbus-bartending-school-spring-cocktails-charcuterie/1001081
LOCATION:Columbus Bartending School -- 5354 North High Street Columbus, OH 43214
STATUS:CONFIRMED
SEQUENCE:0
TRANSP:OPAQUE
END:VEVENT
END:VCALENDAR
