BEGIN:VCALENDAR
VERSION:2.0
CALSCALE:GREGORIAN
BEGIN:VEVENT
DTSTAMP:20260422T201214
DTSTART:20260430T130000
DTEND:20260430T143000
SUMMARY:Peach Street Distillers Behind The Scenes Tour!
DESCRIPTION:Event Info: https://www.localwineevents.com/view/event/peach-street-distillers-behind-the-scenes-tour/1001073
LOCATION:Peach Street Distillers -- 144 Kluge Avenue Palisade, CO 81526
STATUS:CONFIRMED
SEQUENCE:0
TRANSP:OPAQUE
END:VEVENT
END:VCALENDAR
