BEGIN:VCALENDAR
VERSION:2.0
CALSCALE:GREGORIAN
BEGIN:VEVENT
DTSTAMP:20260421T164138
DTSTART:20260430T183000
DTEND:20260430T210000
SUMMARY:New Orleans Steakhouse
DESCRIPTION:Event Info: https://www.localwineevents.com/view/event/new-orleans-steakhouse/1001054
LOCATION:Central Market Plano -- 320 Coit Road Plano, TX 75075
STATUS:CONFIRMED
SEQUENCE:0
TRANSP:OPAQUE
END:VEVENT
END:VCALENDAR
