BEGIN:VCALENDAR
VERSION:2.0
CALSCALE:GREGORIAN
BEGIN:VEVENT
DTSTAMP:20260420T104314
DTSTART:20260430T180000
DTEND:20260430T200000
SUMMARY:Make Epic Gnocchi With Chef Jerry - Pasta Making Cooking Class In Grand Rapids | Classpop!
DESCRIPTION:Event Info: https://www.localwineevents.com/view/event/make-epic-gnocchi-with-chef-jerry---pasta-making-cooking-class-in-grand-rapids-classpop/1001045
LOCATION:Third Nature Brewing Co. -- 7733 Childsdale Ave NE Grand Rapids, MI 49503
STATUS:CONFIRMED
SEQUENCE:0
TRANSP:OPAQUE
END:VEVENT
END:VCALENDAR
