BEGIN:VCALENDAR
VERSION:2.0
CALSCALE:GREGORIAN
BEGIN:VEVENT
DTSTAMP:20260421T164230
DTSTART:20260430T190000
DTEND:20260430T210000
SUMMARY:Bhakta After Dark: A Bourbon Supper Club
DESCRIPTION:Event Info: https://www.localwineevents.com/view/event/bhakta-after-dark-a-bourbon-supper-club/1001036
LOCATION:2919 Canton St -- 2919 Canton Street Dallas, TX 75226
STATUS:CONFIRMED
SEQUENCE:0
TRANSP:OPAQUE
END:VEVENT
END:VCALENDAR
